BEGIN:VCALENDAR
VERSION:2.0
PRODID:-//ANC 3C - ECPv6.15.5//NONSGML v1.0//EN
CALSCALE:GREGORIAN
METHOD:PUBLISH
X-ORIGINAL-URL:https://anc3c.org
X-WR-CALDESC:Events for ANC 3C
REFRESH-INTERVAL;VALUE=DURATION:PT1H
X-Robots-Tag:noindex
X-PUBLISHED-TTL:PT1H
BEGIN:VTIMEZONE
TZID:America/New_York
BEGIN:DAYLIGHT
TZOFFSETFROM:-0500
TZOFFSETTO:-0400
TZNAME:EDT
DTSTART:20260308T070000
END:DAYLIGHT
BEGIN:STANDARD
TZOFFSETFROM:-0400
TZOFFSETTO:-0500
TZNAME:EST
DTSTART:20261101T060000
END:STANDARD
END:VTIMEZONE
BEGIN:VEVENT
DTSTART;TZID=America/New_York:20260211T183000
DTEND;TZID=America/New_York:20260211T193000
DTSTAMP:20260419T131901
CREATED:20260121T174004Z
LAST-MODIFIED:20260206T171501Z
UID:10000459-1770834600-1770838200@anc3c.org
SUMMARY:ANC3C Safe\, Sustainable\, and Equitable Transportation Committee - February Meeting - CONFIRMED
DESCRIPTION:ANC3C Safe\, Sustainable\, and Equitable Transportation Committee\nFebruary 11 @ 6:30 pm\nPlease click here to learn about our committees.\nThe next public meeting for the Safe\, Sustainable\, and Equitable Transportation Committee (SSET) for ANC3C will be held on Wednesday\, February 11\, beginning at 6:30pm online. All are welcome to hear the issues presented below. No decisions are made at this meeting. Please visit anc3c.org for updates prior to the meeting. The community is welcome to send agenda items to the co-chairs at 3C02@anc.dc.gov (Adam J. Prinzo) and 3C04@anc.dc.gov (Erin Beard). \nDraft Agenda – \n\nFollow Up to 34th Street/Reno Road Discussion\nDC Snow Response\nFY 27 Budget Discussion\nOther Business\n\nPlease send comments\, questions\, concerns on these matters to 3C@anc.dc.gov (ALL Commissioners). **PLEASE NOTE NEW EMAIL** \nThe following Zoom link for ANC3C’s SSET Committee Meeting is a registration link only. You will be asked to provide your email address in order to receive the Zoom login link\, which will be emailed to you immediately upon registration. The email will include a link to join the meeting as well as a passcode which will be necessary if you choose to join the meeting via phone rather than computer. ANC3C will not retain or disclose your email address. \nhttps://dc-gov.zoom.us/meeting/register/OVU37J2zQmOHmOZDgV2s3g \nAfter registering\, you will receive a confirmation email containing information about joining the meeting.
URL:https://anc3c.org/event/anc3c-safe-sustainable-and-equitable-transportation-committee-february-meeting-26/
LOCATION:Online
END:VEVENT
BEGIN:VEVENT
DTSTART;TZID=America/New_York:20260211T193000
DTEND;TZID=America/New_York:20260211T203000
DTSTAMP:20260419T131901
CREATED:20260205T034734Z
LAST-MODIFIED:20260206T172545Z
UID:10000521-1770838200-1770841800@anc3c.org
SUMMARY:ANC3C Public Safety Committee - February Meeting - CONFIRMED
DESCRIPTION:ANC3C Public Safety Committee\nFebruary 11 @ 7:30pm – 8:30pm\nPlease click here to learn about our committees.\nThe next public meeting for the Public Safety Committee (PSX) for ANC3C will be held on February 11\, beginning at 7:30pm online. All are welcome to hear the issues presented below. No decisions are made at this meeting. Please visit anc3c.org for updates prior to the meeting. The community is welcome to send agenda items to the co-chairs at 3C02@anc.dc.gov (Adam J. Prinzo) and 3C08@anc.dc.gov (Rick Nash). \nDraft Agenda – \n\n\nMetropolitan Police Department Second District Update (MPD) \n\nDC Snow Response\n\nDiscussion on FY27 Budget Priorities \n\n\nAny Other Business \n\n\nPlease send comments\, questions\, concerns on these matters to 3C@anc.dc.gov (ALL Commissioners). \nhttps://dc-gov.zoom.us/meeting/register/NJCUR83tSbWQIhd5_MYP3Q \nAfter registering\, you will receive a confirmation email containing information about joining the meeting.
URL:https://anc3c.org/event/anc3c-public-safety-committee-february-meeting-confirmed/
LOCATION:Online
END:VEVENT
END:VCALENDAR