BEGIN:VCALENDAR
VERSION:2.0
PRODID:-//ANC 3C - ECPv6.15.5//NONSGML v1.0//EN
CALSCALE:GREGORIAN
METHOD:PUBLISH
X-ORIGINAL-URL:https://anc3c.org
X-WR-CALDESC:Events for ANC 3C
REFRESH-INTERVAL;VALUE=DURATION:PT1H
X-Robots-Tag:noindex
X-PUBLISHED-TTL:PT1H
BEGIN:VTIMEZONE
TZID:America/New_York
BEGIN:DAYLIGHT
TZOFFSETFROM:-0500
TZOFFSETTO:-0400
TZNAME:EDT
DTSTART:20250309T070000
END:DAYLIGHT
BEGIN:STANDARD
TZOFFSETFROM:-0400
TZOFFSETTO:-0500
TZNAME:EST
DTSTART:20251102T060000
END:STANDARD
END:VTIMEZONE
BEGIN:VEVENT
DTSTART;TZID=America/New_York:20251215T190000
DTEND;TZID=America/New_York:20251215T210000
DTSTAMP:20260425T075448
CREATED:20250122T202453Z
LAST-MODIFIED:20251214T215726Z
UID:10000383-1765825200-1765832400@anc3c.org
SUMMARY:December 2025 Public Meeting
DESCRIPTION:ANC3C December 2025 NOTICE & DRAFT Agenda \nDate/Time: December 15\, 2025 7:00 pm \nLocation: Zoom Meeting\, Online\, Washington\, DC 20008\nRegistration Link: https://dc-gov.zoom.us/meeting/register/vrzQUSXRSj-lBQaQ9ODs4A\nSIGN UP TO RECEIVE NOTICE & UPDATES FROM 3C – https://forms.gle/h73JCpq5Vybs5agZ9\nThe ANC meets every month (with the exception of August). An agenda and draft materials for the upcoming meeting is available at www.anc3c.org.  \nAs a neighbor\, there are several opportunities to participate in an ANC meeting: You can make an Announcement\, or speak during the Community Forum\, or you can ask to be recognized by the Chair to speak during the Commission Business. \nIf you have any questions or comments about the upcoming meeting\, draft resolutions or letters\, or have interest in formally joining a standing committee\, email the Commissioners at 3c@anc.dc.gov (ALL Commissioners).  \nI. Establishment of Quorum\nII. Verification of Notice \nIII. Approval of Agenda & Consent Calendar \nIV. Consent Calendar \n\nApproval of November 2025 Minutes\nSupport for BZA application (Case 21400) for Aidan Montessori School (2700 27th Street\, NW) – To construct a front addition to an existing\, detached\, four-story plus penthouse\, private school building in the R-3 zone.\n\nV. Presentations \n\nNone\n\nVI. Announcements \n\nSingle Member District Reports (5 mins)\nCommittee Reports (5 mins)\n\nSafe\, Sustainable\, and Equitable Transportation\nTransparency & Public Process\nCommunity Engagement & Grants\nPlanning\, Zoning\, Housing\, and Economic Development\nResidential Historic Preservation\nEnvironmental Justice\nPublic Safety\nHybrid (Virtual/In-Person) Meeting Task Force  \n\n\nMayor\, Council\, Agency\, Community Organizations (5 mins)\n\nVII. Community Forum – (Members of the public are invited to ask questions and raise concerns about issues that are not otherwise on the agenda. Please limit time to 1-2 minutes.)\nVIII. Commission Business \n\nDiscussion of and vote on resolution regarding Grant application of Hardy MS PTO for supplemental math curriculum\n\nHardy MS PTO grant application\nOANC memo\n\n\nDiscussion of and vote on Protest Resolution regarding ABCA application (ABRA-134075) for a new medical cannabis retailer license to be located at 2653 Connecticut Avenue NW. The proposed facility with approximately 1\,500 square feet of space will provide cannabis flowers\, cannabis concentrates\, and a line of edible products and home delivery services to registered patients in Washington\, D.C. The applicant is requesting delivery\, Safe-Use Treatment Facility and Summer Garden endorsements.\n\nDiscussion and vote on Resolution Regarding Historic Preservation Review Board application for 2723 Woodley Place NW for construction of new third story addition (HPA 26-58) **UPDATED 12/14**\n\nTreasurer’s Report \n\nIX. Adjournment
URL:https://anc3c.org/event/december-2025-public-meeting/
LOCATION:Online
END:VEVENT
END:VCALENDAR