BEGIN:VCALENDAR
VERSION:2.0
PRODID:-//ANC 3C - ECPv6.15.5//NONSGML v1.0//EN
CALSCALE:GREGORIAN
METHOD:PUBLISH
X-WR-CALNAME:ANC 3C
X-ORIGINAL-URL:https://anc3c.org
X-WR-CALDESC:Events for ANC 3C
REFRESH-INTERVAL;VALUE=DURATION:PT1H
X-Robots-Tag:noindex
X-PUBLISHED-TTL:PT1H
BEGIN:VTIMEZONE
TZID:America/New_York
BEGIN:DAYLIGHT
TZOFFSETFROM:-0500
TZOFFSETTO:-0400
TZNAME:EDT
DTSTART:20250309T070000
END:DAYLIGHT
BEGIN:STANDARD
TZOFFSETFROM:-0400
TZOFFSETTO:-0500
TZNAME:EST
DTSTART:20251102T060000
END:STANDARD
END:VTIMEZONE
BEGIN:VEVENT
DTSTART;TZID=America/New_York:20251202T183000
DTEND;TZID=America/New_York:20251202T193000
DTSTAMP:20260421T040915
CREATED:20251125T005448Z
LAST-MODIFIED:20251125T005448Z
UID:10000410-1764700200-1764703800@anc3c.org
SUMMARY:ANC3C Planning\, Zoning\, Housing and Economic Development Committee - December Meeting
DESCRIPTION:ANC3C Planning\, Zoning\, Housing & Economic Development Committee\nDecember 2 @ 6:30 pm – 7:30 pm\nThe meeting for the Planning\, Zoning\, Housing & Economic Development (PZHED) Committee for ANC3C will be held on Tuesday\, December 2 beginning at 6:30pm online. \nAll are welcome to hear the issues presented below. No decisions are made at this meeting. Please visit anc3c.orgfor updates prior to the meeting. The community is welcome to send agenda items to the PZHED co-chairs at 3C03@anc.dc.gov (Janell Pagats)\, 3C02@anc.dc.gov(Adam Prinzo)\, and 3C06@anc.dc.gov (Jay Bose). \nPlease click here to learn about our committees. \nPZHED Draft Agenda – \n\nDiscussion of BZA application (Case 21400) for Aidan Montessori School (2700 27th Street\, NW) – To construct a front addition to an existing\, detached\, four-story plus penthouse\, private school building in the R-3 zone.\nDiscussion of ABCA application (ABRA-134075) for a new medical cannabis retailer license to be located at 2653 Connecticut Avenue NW. The proposed facility with approximately 1\,500 square feet of space will provide cannabis flowers\, cannabis concentrates\, and a line of edible products and home delivery services to registered patients in Washington\, D.C. The applicant is requesting delivery\, Safe-Use Treatment Facility and Summer Garden endorsements.\nPresentation of an application for the closing of a public alley in Square 2068. The proposed alley closing will facilitate the consolidation of the Applicant’s property and provide for the development of a three (3)-story residential building. The subject square is bounded by Porter Street to the north\, Connecticut Avenue to the east\, Ordway Street to the south\, and 30th Street to the west in Northwest Washington\, DC. The subject square is currently a parking lot located behind 3500 Connecticut Avenue\, NW.\nDiscussion of BZA application (Case 21398) for 3432 Newark Street\, NW – To construct a one-story addition to an existing detached accessory building and convert to an accessory garage\, located in the rear of a detached\, two-story with cellar\, principal dwelling unit in the R-1B zone.\nAll Other Business\n\nPlease send comments\, questions\, concerns on these matters to 3c@anc.dc.gov (ALL Commissioners). *NOTE: NEW EMAIL ADDRESS* \nThe following Zoom link is a registration link for ANC3C’s PZHED Committee Meeting. You will be asked to provide your email address in order to receive the Zoom login link\, which will be emailed to you immediately upon registration. The email will include a link to join the meeting as well as a passcode which will be necessary if you choose to join the meeting via phone rather than computer. ANC3C will not retain or disclose your email address. \nhttps://dc-gov.zoom.us/meeting/register/c53vFLPXRimXgE6-pQq5zg \nAfter registering\, you will receive a confirmation email containing information about joining the meeting.
URL:https://anc3c.org/event/anc3c-planning-zoning-housing-and-economic-development-committee-december-meeting/
LOCATION:Online
END:VEVENT
BEGIN:VEVENT
DTSTART;TZID=America/New_York:20251203T183000
DTEND;TZID=America/New_York:20251203T193000
DTSTAMP:20260421T040915
CREATED:20251125T005813Z
LAST-MODIFIED:20251125T005813Z
UID:10000411-1764786600-1764790200@anc3c.org
SUMMARY:ANC3C Community Engagement & Grants Committee - December Meeting
DESCRIPTION:ANC3C Community Engagement & Grants  Committee\nDecember 3 @ 6:30 pm\nThe December public meeting for the Community Engagement and Grants Committee for ANC 3C will be held on December 3\, 2025 beginning at 6:30 PM online. All are welcome to hear the issues presented below. No decisions are made at this meeting. Please visit https://anc3c.org/events/ for updates prior to the meeting. The community is welcome to send agenda items and/or comments to the chairs\, Gawain Kripke (3C07) – 3c07@anc.dc.gov and Samuel Littauer (3C01) – 3c01@anc.dc.gov. \nPlease click here to learn about our committees. \nDraft Agenda: \n\nGrant application of Hardy MS PTO for supplemental math curriculum\n\nHardy MS PTO grant application\nOANC memo\n\n\nAll Other Business\n\nThe following Zoom link for the Committee Meeting is a registration link only. You will be asked to provide your email address in order to receive the Zoom login link\, which will be emailed to you immediately upon registration. The email will include a link to join the meeting as well as a passcode which will be necessary if you choose to join the meeting via phone rather than computer.  ANC 3C will not retain or disclose your email address. \nhttps://dc-gov.zoom.us/meeting/register/bqdcNONlQx28Kz6GbuYOow \nAfter registering\, you will receive a confirmation email containing information about joining the meeting. \n\n\n\n\n 
URL:https://anc3c.org/event/ceg-dec-25/
LOCATION:Online
END:VEVENT
END:VCALENDAR