BEGIN:VCALENDAR
VERSION:2.0
PRODID:-//ANC 3C - ECPv6.15.5//NONSGML v1.0//EN
CALSCALE:GREGORIAN
METHOD:PUBLISH
X-WR-CALNAME:ANC 3C
X-ORIGINAL-URL:https://anc3c.org
X-WR-CALDESC:Events for ANC 3C
REFRESH-INTERVAL;VALUE=DURATION:PT1H
X-Robots-Tag:noindex
X-PUBLISHED-TTL:PT1H
BEGIN:VTIMEZONE
TZID:America/New_York
BEGIN:DAYLIGHT
TZOFFSETFROM:-0500
TZOFFSETTO:-0400
TZNAME:EDT
DTSTART:20260308T070000
END:DAYLIGHT
BEGIN:STANDARD
TZOFFSETFROM:-0400
TZOFFSETTO:-0500
TZNAME:EST
DTSTART:20261101T060000
END:STANDARD
END:VTIMEZONE
BEGIN:VEVENT
DTSTART;TZID=America/New_York:20260105T183000
DTEND;TZID=America/New_York:20260105T193000
DTSTAMP:20260419T165112
CREATED:20251230T005649Z
LAST-MODIFIED:20251230T005843Z
UID:10000414-1767637800-1767641400@anc3c.org
SUMMARY:ANC3C Planning\, Zoning\, Housing and Economic Development Committee - January Meeting
DESCRIPTION:ANC3C Planning\, Zoning\, Housing & Economic Development Committee\nJanuary 5 @ 6:30 pm – 7:30 pm \nThe meeting for the Planning\, Zoning\, Housing & Economic Development (PZHED) Committee for ANC3C will be held on Monday\, January 5 beginning at 6:30pm online. \nAll are welcome to hear the issues presented below. No decisions are made at this meeting. Please visit anc3c.org for updates prior to the meeting. The community is welcome to send agenda items to the PZHED co-chairs at 3C03@anc.dc.gov (Janell Pagats)\, 3C02@anc.dc.gov (Adam Prinzo)\, and 3C06@anc.dc.gov (Jay Bose). \nPlease click here to learn about our committees. \nPZHED Draft Agenda – \n\nDiscussion of Initial community settlement agreement ideas for ABCA application (ABRA-134075) for a new medical cannabis retailer license to be located at 2653 Connecticut Avenue NW. ANC3C has passed and submitted to ABCA a protest request.\nAll Other Business\n\nPlease send comments\, questions\, concerns on these matters to 3c@anc.dc.gov (ALL Commissioners). *NOTE: NEW EMAIL ADDRESS* \nThe following Zoom link is a registration link for ANC3C’s PZHED Committee Meeting. You will be asked to provide your email address in order to receive the Zoom login link\, which will be emailed to you immediately upon registration. The email will include a link to join the meeting as well as a passcode which will be necessary if you choose to join the meeting via phone rather than computer. ANC3C will not retain or disclose your email address. \nhttps://dc-gov.zoom.us/meeting/register/G7SPq8BZTMOoZj8t0cLKew \nAfter registering\, you will receive a confirmation email containing information about joining the meeting.
URL:https://anc3c.org/event/anc3c-planning-zoning-housing-and-economic-development-committee-jan-meeting/
LOCATION:Online
END:VEVENT
BEGIN:VEVENT
DTSTART;TZID=America/New_York:20260107T183000
DTEND;TZID=America/New_York:20260107T193000
DTSTAMP:20260419T165112
CREATED:20251230T011145Z
LAST-MODIFIED:20260105T222640Z
UID:10000415-1767810600-1767814200@anc3c.org
SUMMARY:ANC3C Environmental Justice Committee - January Meeting
DESCRIPTION:ANC3C Environmental Justice Committee\nJanuary 7 @ 6:30 pm – 7:30 pm \nThe January public meeting for the Environmental Justice Committee for ANC 3C will be held on 1/7/2026\, beginning at 6:30 PM online. All are welcome to hear the issues presented below. No decisions are made at this meeting. Please visit https://anc3c.org/events/ for updates prior to the meeting. The community is welcome to send agenda items to Gawain Kripke at 3C07@anc.dc.gov. \nPlease click here to learn about our committees. \nDraft Agenda: \n\nTo consider the situation and stewardship of street trees and landscaping in our neighborhood. What are the challenges and causes?  What are gaps?  What are actions and models for action?\n\nAaron Rowe\, DC arborist\nStella Tarney\, Capital Nature\nCassandra Hetherington\, Cleveland Park Mainstreet\nOthers\, to be invited\n\n\n\nThe following Zoom link for the Committee Meeting is a registration link only. You will be asked to provide your email address in order to receive the Zoom login link\, which will be emailed to you immediately upon registration. The email will include a link to join the meeting as well as a passcode which will be necessary if you choose to join the meeting via phone rather than computer.  ANC 3C will not retain or disclose your email address. \nhttps://dc-gov.zoom.us/meeting/register/xvSgFn3wToqgQy11FY5SZQ \nAfter registering\, you will receive a confirmation email containing information about joining the meeting. \n.
URL:https://anc3c.org/event/anc3c-environmental-justice-committee-january-meeting/
LOCATION:Online
END:VEVENT
BEGIN:VEVENT
DTSTART;TZID=America/New_York:20260114T183000
DTEND;TZID=America/New_York:20260114T190000
DTSTAMP:20260419T165112
CREATED:20260106T020023Z
LAST-MODIFIED:20260106T020408Z
UID:10000417-1768415400-1768417200@anc3c.org
SUMMARY:ANC3C Transparency & Public Processes Committee - January Meeting
DESCRIPTION:ANC3C Transparency & Public Processes Committee\nJanuary 14 @ 6:30 pm\nPlease click here to learn about our committees.\nThe January public meeting for the Transparency & Public Processes Committee (TPP) for ANC3C will be held on Wednesday\, January 14\, beginning at 6:30pm online. All are welcome to hear the issues presented below. No decisions are made at this meeting. Please visit anc3c.org for updates prior to the meeting. The community is welcome to send agenda items to the chair at 3C02@anc.dc.gov (Adam J. Prinzo).\n \nDraft Agenda –\n\n\nDiscussion on ANC Operations\n\n\nMeeting dates for 2026/Jan 2027\n\n\nVirtual vs. hybrid discussion – would need to be voted on at the 1/21 meeting\n\n\nMeeting Locations for Hybrid Meetings\n\n\n\n\n\n\nCommittee Operations for 2026\n\n\nSchedule\n\n\nNotice and Agenda Setting\n\n\n\n\nOther Business\n\n\n \nPlease send comments\, questions\, concerns on these matters to all@anc3c.org (ALL Commissioners).\n \nThe following Zoom link for ANC3C’s TPP Committee Meeting is a registration link only. You will be asked to provide your email address in order to receive the Zoom login link\, which will be emailed to you immediately upon registration. The email will include a link to join the meeting as well as a passcode which will be necessary if you choose to join the meeting via phone rather than computer. ANC3C will not retain or disclose your email address.\n \nhttps://dc-gov.zoom.us/meeting/register/bfBEe92ZQwaqpL460HvWZg \n\nAfter registering\, you will receive a confirmation email containing information about joining the meeting.
URL:https://anc3c.org/event/anc3c-transparency-public-processes-committee-january-meeting-2/
LOCATION:Online
END:VEVENT
BEGIN:VEVENT
DTSTART;TZID=America/New_York:20260114T190000
DTEND;TZID=America/New_York:20260114T200000
DTSTAMP:20260419T165112
CREATED:20251230T011429Z
LAST-MODIFIED:20260105T153337Z
UID:10000416-1768417200-1768420800@anc3c.org
SUMMARY:ANC3C Safe\, Sustainable\, and Equitable Transportation Committee - January Meeting
DESCRIPTION:ANC3C Safe\, Sustainable\, and Equitable Transportation Committee\nJanuary 14 @ 7:00 pm \nPlease click here to learn about our committees. \nThe January public meeting for the Safe\, Sustainable\, and Equitable Transportation Committee (SSET) for ANC3C will be held on Wednesday\, January 14\, beginning at 7:00pm online. All are welcome to hear the issues presented below. No decisions are made at this meeting. Please visit anc3c.org for updates prior to the meeting. The community is welcome to send agenda items to the co-chairs at 3C02@anc.dc.gov (Adam J. Prinzo)\, 3C01@anc.dc.gov (Samuel Littauer) and 3C04@anc.dc.gov (Erin Beard). \nDraft Agenda – \n\nDDOT Safe Routes to School Discussion\n\nOyster-Adams (Calvert Street/Cleveland Avenue/29th Street)\nEaton Elementary (33rd Place)\n\n\nDiscussion on 29th Street Sidewalk in Woodley Park\nDiscussion on Connecticut Avenue Safety Improvement Plan\nDiscussion on Pedestrian Safety in ANC 3C\nOther Business\n\nPlease send comments\, questions\, concerns on these matters to 3C@anc.dc.gov (ALL Commissioners). **PLEASE NOTE NEW EMAIL** \nThe following Zoom link for ANC3C’s SSET Committee Meeting is a registration link only. You will be asked to provide your email address in order to receive the Zoom login link\, which will be emailed to you immediately upon registration. The email will include a link to join the meeting as well as a passcode which will be necessary if you choose to join the meeting via phone rather than computer. ANC3C will not retain or disclose your email address. \nhttps://dc-gov.zoom.us/meeting/register/sgq9cjYjQmuiKpVnmIaaWg \nAfter registering\, you will receive a confirmation email containing information about joining the meeting.
URL:https://anc3c.org/event/anc3c-safe-sustainable-and-equitable-transportation-committee-january-meeting/
LOCATION:Online
END:VEVENT
BEGIN:VEVENT
DTSTART;TZID=America/New_York:20260120T190000
DTEND;TZID=America/New_York:20260120T210000
DTSTAMP:20260419T165112
CREATED:20250122T202550Z
LAST-MODIFIED:20260114T154434Z
UID:10000384-1768935600-1768942800@anc3c.org
SUMMARY:January 2026 Public Meeting
DESCRIPTION:ANC3C January 2026 NOTICE & DRAFT Agenda \nDate/Time: January 20\, 2025 7:00 pm\nLocation: Zoom Meeting\, Online\, Washington\, DC 20008\nRegistration Link: https://dc-gov.zoom.us/meeting/register/7jEjsl73SZ2Sbz4Rmq0iQg \nThe ANC meets every month (with the exception of August). An agenda and draft materials for the upcoming meeting is available at www.anc3c.org. \nSIGN UP TO RECEIVE NOTICE & UPDATES FROM 3C – https://forms.gle/h73JCpq5Vybs5agZ9 \nAs a neighbor\, there are several opportunities to participate in an ANC meeting: You can make an Announcement\, or speak during the Community Forum\, or you can ask to be recognized by the Chair to speak during the Commission Business. \nIf you have any questions or comments about the upcoming meeting\, draft resolutions or letters\, or have interest in formally joining a standing committee\, email the Commissioners at 3c@anc.dc.gov (all ANC3C commissioners) \n\nEstablishment of Quorum\nVerification of Notice \nApproval of Agenda & Consent Calendar \n\nConsent Calendar\n\nApproval of December 2025 Meeting Minutes\nResolution Regarding Regarding the 2026 Rock ‘N’ Roll DC Half Marathon and 5K\n\n\nCommission Business\n\nElection of Officers\nConsideration of the 2026/January 2027 meeting calendar – PROPOSED:\n\nTuesday\, February 17\, 2026 – (Monday\, February 16 is Presidents Day)\nMonday\, March 16\, 2026\nMonday\, April 20\, 2026\nMonday\, May 18\, 2026\nMonday\, June 15\, 2026\nMonday\, July 20\, 2026\nMonday\, September 21\, 2026 OR Tuesday\, September 22\, 2026\n\nMonday\, September 21 falls on Yom Kippur\n\n\nMonday\, October 19\, 2026\nMonday\, November 16\, 2026\nMonday\, December 14\, 2026 (Adjusted for Holiday Week)\nTuesday\, January 19\, 2027 – (Monday\, January 18 is Martin Luther King\, Jr. Day)\n\n\n\n\nConsideration of Chairs/Co-Chairs and standing meeting date schedule of existing Standing Committees: Safe Sustainable and Equitable Transportation Committee; Transparency and Public Processes Committee; Community Engagement & Grants Committee; Planning\, Zoning\, Housing and Economic Development; Residential Historic Preservation; Environmental Justice; and Public Safety\n\n\nAnnouncements \n\nSingle Member District Reports (5 mins)\nCommittee Reports (5 mins)\n\nSafe\, Sustainable\, and Equitable Transportation\nTransparency & Public Process\nCommunity Engagement & Grants\nPlanning\, Zoning\, Housing\, and Economic Development\nResidential Historic Preservation\nEnvironmental Justice\nPublic Safety\n\n\nMayor\, Council\, Agency\, Community Organizations (5 mins)\n\n\nCommunity Forum \n\nMembers of the public are invited to ask questions and raise concerns about issues that are not otherwise on the agenda. Please limit time to 1-2 minutes.\n\n\nCommission Business – If you have any questions or comments about the following draft resolutions or letters email the Commissioners at 3c@anc.dc.gov\n\nDiscussion of and vote on Resolution regarding an application for the closing of a public alley in Square 2068. The proposed alley closing will facilitate the consolidation of the Applicant’s property and provide for the development of a three (3)-story residential building. Revised/update plans. \nDiscussion of and vote on Settlement Agreement regarding ABCA application (ABRA-134075) for a new medical cannabis retailer license to be located at 2653 Connecticut Avenue NW.\nDiscussion and vote on Comments Regarding 34th Street/Reno Road NW Traffic Issues.\n\n\nTreasurer’s Report \nAdjournment
URL:https://anc3c.org/event/january-2026-public-meeting/
LOCATION:Online
END:VEVENT
BEGIN:VEVENT
DTSTART;TZID=America/New_York:20260127T183000
DTEND;TZID=America/New_York:20260127T193000
DTSTAMP:20260419T165112
CREATED:20260122T043503Z
LAST-MODIFIED:20260122T043953Z
UID:10000508-1769538600-1769542200@anc3c.org
SUMMARY:ANC3C Community Engagement & Grants Committee - January Meeting - CONFIRMED
DESCRIPTION:ANC3C Community Engagement and Grants Committee Meeting\nJanuary 27 @ 6:30 pm – 7:30 pm\nThe January public meeting for the Community Engagement and Grants Committee for ANC 3C will be held on January 27\, 2026 beginning at 6:30 PM online. All are welcome to hear the issues presented below. No decisions are made at this meeting. Please visit https://anc3c.org/events/ for updates prior to the meeting. The community is welcome to send agenda items and/or comments to the chairs\, Gawain Kripke (3C07) – 3c07@anc.dc.gov and Samuel Littauer (3C01) – 3c01@anc.dc.gov.\nPlease click here to learn about our committees.\nDraft Agenda:\n\n\nGrant application for Vine Removal from Trees – Urban Forest Along Fulton Street and Normanstone Drive\n\n\ngrant application\n\n\nOANC memo\n\n\n\n\nGrant application for Cleveland Park Promenade Landscaping\n\n\ngrant application\n\n\n\n\nAll Other Business\n\n\nThe following Zoom link for the Committee Meeting is a registration link only. You will be asked to provide your email address in order to receive the Zoom login link\, which will be emailed to you immediately upon registration. The email will include a link to join the meeting as well as a passcode which will be necessary if you choose to join the meeting via phone rather than computer.  ANC 3C will not retain or disclose your email address.\nhttps://dc-gov.zoom.us/meeting/register/J0JEY2lGRbyakUqd3dEjVA\nAfter registering\, you will receive a confirmation email containing information about joining the meeting.
URL:https://anc3c.org/event/anc3c-community-engagement-grants-committee-jan-26/
LOCATION:Online
END:VEVENT
END:VCALENDAR