BEGIN:VCALENDAR
VERSION:2.0
PRODID:-//ANC 3C - ECPv6.15.5//NONSGML v1.0//EN
CALSCALE:GREGORIAN
METHOD:PUBLISH
X-WR-CALNAME:ANC 3C
X-ORIGINAL-URL:https://anc3c.org
X-WR-CALDESC:Events for ANC 3C
REFRESH-INTERVAL;VALUE=DURATION:PT1H
X-Robots-Tag:noindex
X-PUBLISHED-TTL:PT1H
BEGIN:VTIMEZONE
TZID:America/New_York
BEGIN:DAYLIGHT
TZOFFSETFROM:-0500
TZOFFSETTO:-0400
TZNAME:EDT
DTSTART:20250309T070000
END:DAYLIGHT
BEGIN:STANDARD
TZOFFSETFROM:-0400
TZOFFSETTO:-0500
TZNAME:EST
DTSTART:20251102T060000
END:STANDARD
END:VTIMEZONE
BEGIN:VEVENT
DTSTART;TZID=America/New_York:20251006T183000
DTEND;TZID=America/New_York:20251006T193000
DTSTAMP:20260419T231126
CREATED:20250930T011826Z
LAST-MODIFIED:20250930T011826Z
UID:10000405-1759775400-1759779000@anc3c.org
SUMMARY:ANC3C Planning\, Zoning\, Housing and Economic Development Committee - October Meeting
DESCRIPTION:ANC3C Planning\, Zoning\, Housing & Economic Development Committee\nOctober 6 @ 6:30 pm – 7:30 pm\nThe meeting for the Planning\, Zoning\, Housing & Economic Development (PZHED) Committee for ANC3C will be held on Monday\, October 6 beginning at 6:30pm online.  \nAll are welcome to hear the issues presented below. No decisions are made at this meeting. Please visit anc3c.org for updates prior to the meeting. The community is welcome to send agenda items to the PZHED co-chairs at 3C03@anc.dc.gov (Janell Pagats)\, 3C02@anc.dc.gov (Adam Prinzo)\, and 3C06@anc.dc.gov (Jay Bose).  \nPlease click here to learn about our committees.\nPZHED Draft Agenda – \n\nDiscussion of BZA application (Case 21387) for 3401 Lowell Street\, NW – To construct a side addition\, and a rear\, two-story plus cellar addition\, to an existing\, detached\, two-story plus cellar\, principal dwelling unit in the R-1B zone.\nDiscussion of BZA application (Case 21356) for 3112 Woodley Road NW- To construct a two-story with basement rear addition\, to an existing\, detached\, two-story with basement\, principal dwelling unit in the R-1B zone.\nDiscussion of Text & Map Amendments to Create the Cleveland Park Neighborhood Mixed Use Zone [NMU-8A/CP] & New Woodley Park Neighborhood Mixed Use Zone [NMU-9A/WP] \n\nImportant Information\, Records\, Documents\, & Key Dates \n\n\n\nZoning Commission Record/Files: Case 25-09. \nOffice of Planning Presentation to ANC3C\nApproved Connecticut Avenue Development Guidelines \nWoodley Park and Cleveland Park Public Life Study\nConnecticut Avenue Development Guidelines: Infrastructure Assessment\nSetdown approved at Zoning Commission June 26 meeting. UPCOMING Zoning Commission Hearing is December 1. \n\n\n\n\nANC3C will consider a letter at our November meeting and is taking public comments at PZHED committee meetings to inform this letter. \n\n\nPlease plan to attend and comment or send comments to ANC3C at 3c@anc.dc.org.  \nAll Other Business \n\nPlease send comments\, questions\, concerns on these matters to 3c@anc.dc.gov (ALL Commissioners). *NOTE: NEW EMAIL ADDRESS* \nThe following Zoom link is a registration link for ANC3C’s PZHED Committee Meeting. You will be asked to provide your email address in order to receive the Zoom login link\, which will be emailed to you immediately upon registration. The email will include a link to join the meeting as well as a passcode which will be necessary if you choose to join the meeting via phone rather than computer. ANC3C will not retain or disclose your email address. \nhttps://dc-gov.zoom.us/meeting/register/SvyBx4jpSwWUtA883US2bA \nAfter registering\, you will receive a confirmation email containing information about joining the meeting.
URL:https://anc3c.org/event/anc3c-planning-zoning-housing-and-economic-development-committee-october-meeting/
LOCATION:Online
END:VEVENT
BEGIN:VEVENT
DTSTART;TZID=America/New_York:20251014T193000
DTEND;TZID=America/New_York:20251014T203000
DTSTAMP:20260419T231126
CREATED:20251007T132422Z
LAST-MODIFIED:20251007T132422Z
UID:10000407-1760470200-1760473800@anc3c.org
SUMMARY:ANC3C Residential Historic Preservation Review Committee  - October Meeting
DESCRIPTION:ANC3C Residential Historic Preservation Review Committee \nOctober 14 @ 7:30 pm – 8:30 pm\nThe October public meeting for the Residential Historic Preservation Review Committee for ANC 3C will be held on 10/14/2025\, beginning at 7:30 PM online. All are welcome to hear the issues presented below. No decisions are made at this meeting. Please visit https://anc3c.org/events/ for updates prior to the meeting. The community is welcome to send agenda items to Rick Nash at 3C08@anc.dc.gov\, and Gawain Kripke at 3C07@anc.dc.gov. \nPlease click here to learn about our committees. \nDraft Agenda: \n* 2829 29th St NW – 2nd floor addition on an alley garage. \nThe following Zoom link for the Committee Meeting is a registration link only. You will be asked to provide your email address in order to receive the Zoom login link\, which will be emailed to you immediately upon registration. The email will include a link to join the meeting as well as a passcode which will be necessary if you choose to join the meeting via phone rather than computer.  ANC 3C will not retain or disclose your email address. \nhttps://dc-gov.zoom.us/meeting/register/JYQnO99BT1iRAWvODQwQnA \nAfter registering\, you will receive a confirmation email containing information about joining the meeting.
URL:https://anc3c.org/event/anc3c-residential-historic-preservation-review-committee-oct-2025-meeting/
LOCATION:Online
END:VEVENT
BEGIN:VEVENT
DTSTART;TZID=America/New_York:20251020T190000
DTEND;TZID=America/New_York:20251020T210000
DTSTAMP:20260419T231126
CREATED:20250122T202348Z
LAST-MODIFIED:20251013T231744Z
UID:10000381-1760986800-1760994000@anc3c.org
SUMMARY:October 2025 Public Meeting
DESCRIPTION:ANC3C October 2025 NOTICE & DRAFT Agenda \nDate/Time: October 20\, 2025 7:00 pm\nLocation: Zoom Meeting\, Online\, Washington\, DC 20008\nRegistration Link: https://dc-gov.zoom.us/meeting/register/Lh-4bACxToKOhvUrcc7-cg\nSIGN UP TO RECEIVE NOTICE & UPDATES FROM 3C – https://forms.gle/h73JCpq5Vybs5agZ9\nThe ANC meets every month (with the exception of August). An agenda and draft materials for the upcoming meeting is available at www.anc3c.org.\n\nAs a neighbor\, there are several opportunities to participate in an ANC meeting: You can make an Announcement\, or speak during the Community Forum\, or you can ask to be recognized by the Chair to speak during the Commission Business.\n\nIf you have any questions or comments about the upcoming meeting\, draft resolutions or letters\, or have interest in formally joining a standing committee\, email the Commissioners at 3c@anc.dc.gov (ALL Commissioners). *NOTE: NEW EMAIL ADDRESS*\n\nI. Establishment of Quorum\nII. Verification of Notice\nIII. Approval of Agenda & Consent Calendar\nIV. Consent Calendar\n\n\nApproval of September 2025 Minutes\n\n\nSupport of BZA application of (Case 21387) for 3401 Lowell Street\, NW – To construct a side addition\, and a rear\, two-story plus cellar addition\, to an existing\, detached\, two-story plus cellar\, principal dwelling unit in the R-1B zone.\n\n\nSupport of BZA application of (Case 21356) for 3112 Woodley Road NW- To construct a two-story with basement rear addition\, to an existing\, detached\, two-story with basement\, principal dwelling unit in the R-1B zone.\n\n\nSupport of HPRB application of (HPA 25-425) 2829 29th St NW – 2nd floor addition on an alley garage.\n\n\nLetter to Office of the DC Auditor Requesting an Audit of OUC’s Compliance with the Secure DC Act\n\n\n\nV. Presentations\n\n\nPresentation by the District of Columbia Office of the Tenant Advocate (OTA) to inform about their statutory mandate and services\n\n\nPresentation by DC Office of Planning and Discussion of Text & Map Amendments to Create the Cleveland Park Neighborhood Mixed Use Zone [NMU-8A/CP] & New Woodley Park Neighborhood Mixed Use Zone [NMU-9A/WP]\n\n\nThese proposed changes build on years of planning work\, including the Connecticut Avenue Development Guidelines\, and will shape how our commercial corridors evolve in the years ahead. As part of this process\, ANC3C will review the proposal\, hear public input\, and prepare a letter to the Zoning Commission.\nImportant Information\, Records\, Documents\, & Key Dates\n\n\nZoning Commission Record/Files: Case 25-09.\n\n\nOffice of Planning Presentation to ANC3C\n\n\nApproved Connecticut Avenue Development Guidelines \n\n\nWoodley Park and Cleveland Park Public Life Study\n\n\nConnecticut Avenue Development Guidelines: Infrastructure Assessment\n\n\nSetdown approved at Zoning Commission June 26 meeting. UPCOMING virtual Zoning Commission Hearing is December 1.\n\n\nANC3C will consider a letter at our November meeting and is taking public comments at PZHED committee meetings to inform this letter. \n\n\nPlease plan to attend and comment or send comments to ANC3C at 3c@anc.dc.org and/or provide feedback on the proposed zoning changes in Woodley Park and Cleveland Park HERE\n\n\nIN PERSON EVENT Saturday 11/1 – ANC3C is hosting an Open House/Drop-in event with the Office of Planning on Saturday\, November 1 from 10:30am – 1:30pm at Cleveland Park Library\, lower level meeting room. All are invited to learn more\, ask questions\, and provide feedback.\n\n\nVI. Announcements\n\n\nSingle Member District Reports (5 mins)\n\n\nCommittee Reports (5 mins)\n\n\nSafe\, Sustainable\, and Equitable Transportation\n\n\nTransparency & Public Process\n\n\nCommunity Engagement & Grants\n\n\nPlanning\, Zoning\, Housing\, and Economic Development\n\n\nResidential Historic Preservation\n\n\nEnvironmental Justice\n\n\nPublic Safety\n\n\nHybrid (Virtual/In-Person) Meeting Task Force\n\n\n\n\nMayor\, Council\, Agency\, Community Organizations (5 mins)\n\n\n\nVII. Community Forum – (Members of the public are invited to ask questions and raise concerns about issues that are not otherwise on the agenda. Please limit time to 1-2 minutes.)\nVIII. Commission Business\n\n\nTreasurer’s Report\n\n\nFY26 Budget Discussion & Vote\n\n\n\nIX. Adjournment
URL:https://anc3c.org/event/october-2025-public-meeting/
LOCATION:Online
END:VEVENT
END:VCALENDAR