BEGIN:VCALENDAR
VERSION:2.0
PRODID:-//ANC 3C - ECPv6.15.5//NONSGML v1.0//EN
CALSCALE:GREGORIAN
METHOD:PUBLISH
X-WR-CALNAME:ANC 3C
X-ORIGINAL-URL:https://anc3c.org
X-WR-CALDESC:Events for ANC 3C
REFRESH-INTERVAL;VALUE=DURATION:PT1H
X-Robots-Tag:noindex
X-PUBLISHED-TTL:PT1H
BEGIN:VTIMEZONE
TZID:America/New_York
BEGIN:DAYLIGHT
TZOFFSETFROM:-0500
TZOFFSETTO:-0400
TZNAME:EDT
DTSTART:20250309T070000
END:DAYLIGHT
BEGIN:STANDARD
TZOFFSETFROM:-0400
TZOFFSETTO:-0500
TZNAME:EST
DTSTART:20251102T060000
END:STANDARD
END:VTIMEZONE
BEGIN:VEVENT
DTSTART;TZID=America/New_York:20250729T190000
DTEND;TZID=America/New_York:20250729T200000
DTSTAMP:20260422T140632
CREATED:20250714T203841Z
LAST-MODIFIED:20250729T190304Z
UID:10000399-1753815600-1753819200@anc3c.org
SUMMARY:ANC3C Community Engagement and Grants Committee - July Meeting
DESCRIPTION:ANC3C Community Engagement and Grants Committee Meeting\nJuly 29 @ 7 pm – 8 pm \nThe July public meeting for the Community Engagement and Grants Committee for ANC 3C will be held on July 29\, 2025 beginning at 7 PM online. All are welcome to hear the issues presented below. No decisions are made at this meeting. Please visit https://anc3c.org/events/ for updates prior to the meeting. The community is welcome to send agenda items and/or comments to the chairs\, Gawain Kripke (3C07) – 3c07@anc.dc.gov and Samuel Littauer (3C01) – 3c01@anc.dc.gov. \nPlease click here to learn about our committees. \nDraft Agenda: \n\nGrant application of Woodley House for food pantry\n\nWoodley House Grant Application\nProject Budget – Woodley House pantry food drive fall 2025\nOANC Denial of Grant Request \nPrevious approval of grants for food from OANC\nPrevious grant to Ward 3 food pantry report\nRevised Woodley House Grant Application\nProject Budget – Woodley House Pantry Upgrades\n\n\nGrant application of DC Preservation League (DCPL) for Economic\, Social\, and Equity Impact of Historic Preservation in Washington\, DC\n\nDCPL Grant Application\nOANC Approval of Grant Request \n\n\n\nThe following Zoom link for the Committee Meeting is a registration link only. You will be asked to provide your email address in order to receive the Zoom login link\, which will be emailed to you immediately upon registration. The email will include a link to join the meeting as well as a passcode which will be necessary if you choose to join the meeting via phone rather than computer.  ANC 3C will not retain or disclose your email address. \nhttps://dc-gov.zoom.us/meeting/register/EE3QX1koTP-Fomfvb7S5Dw \nAfter registering\, you will receive a confirmation email containing information about joining the meeting.
URL:https://anc3c.org/event/anc3c-community-engagement-and-grants-committee-july-meeting/
END:VEVENT
BEGIN:VEVENT
DTSTART;TZID=America/New_York:20250721T190000
DTEND;TZID=America/New_York:20250721T210000
DTSTAMP:20260422T140632
CREATED:20250122T202247Z
LAST-MODIFIED:20250715T011300Z
UID:10000379-1753124400-1753131600@anc3c.org
SUMMARY:July 2025 Public Meeting
DESCRIPTION:ANC3C Public Meeting – July 21\, 2025
URL:https://anc3c.org/event/july-2025-public-meeting/
LOCATION:Online
END:VEVENT
BEGIN:VEVENT
DTSTART;TZID=America/New_York:20250709T190000
DTEND;TZID=America/New_York:20250709T200000
DTSTAMP:20260422T140632
CREATED:20250701T012555Z
LAST-MODIFIED:20250701T012555Z
UID:10000398-1752087600-1752091200@anc3c.org
SUMMARY:ANC3C Safe\, Sustainable\, and Equitable Transportation Committee - July Meeting
DESCRIPTION:ANC3C Safe\, Sustainable\, and Equitable Transportation Committee\nJuly 9 @ 7:00 pm\nPlease click here to learn about our committees.\nThe July public meeting for the Safe\, Sustainable\, and Equitable Transportation Committee (SSET) for ANC3C will be held on Wednesday\, July\, 9\, beginning at 7:00pm online. All are welcome to hear the issues presented below. No decisions are made at this meeting. Please visit anc3c.org for updates prior to the meeting. The community is welcome to send agenda items to the co-chairs at 3C02@anc.dc.gov (Adam J. Prinzo)\, 3C01@anc.dc.gov (Samuel Littauer) and 3C04@anc.dc.gov (Erin Beard). \nDraft Agenda – \n\nA Presentation by the District Department of Transportation (DDOT) on Connecticut Avenue\nDiscussion on Possible Resolution Regarding the Removal of the Arizona Avenue Protected Bike Lanes\nOther Business\n\nPlease send comments\, questions\, concerns on these matters to 3C@anc.dc.gov(ALL Commissioners). **PLEASE NOTE NEW EMAIL** \nThe following Zoom link for ANC3C’s SSET Committee Meeting is a registration link only. You will be asked to provide your email address in order to receive the Zoom login link\, which will be emailed to you immediately upon registration. The email will include a link to join the meeting as well as a passcode which will be necessary if you choose to join the meeting via phone rather than computer. ANC3C will not retain or disclose your email address. \nhttps://dc-gov.zoom.us/meeting/register/QvtNP55HQGibqmvhNZjsnw \nAfter registering\, you will receive a confirmation email containing information about joining the meeting.
URL:https://anc3c.org/event/anc3c-safe-sustainable-and-equitable-transportation-committee-july-meeting/
LOCATION:Online
END:VEVENT
BEGIN:VEVENT
DTSTART;TZID=America/New_York:20250707T183000
DTEND;TZID=America/New_York:20250707T193000
DTSTAMP:20260422T140632
CREATED:20250701T012426Z
LAST-MODIFIED:20250701T012426Z
UID:10000397-1751913000-1751916600@anc3c.org
SUMMARY:ANC3C Planning\, Zoning\, Housing and Economic Development Committee - July Meeting
DESCRIPTION:ANC3C Planning\, Zoning\, Housing & Economic Development Committee\n\n\n\n\n\n\n\nJuly 7 @ 6:30 pm – 7:30 pm\n\nThe meeting for the Planning\, Zoning\, Housing & Economic Development (PZHED) Committee for ANC3C will be held on Monday\, July 7\, beginning at 6:30pm online. \nAll are welcome to hear the issues presented below. No decisions are made at this meeting. Please visit anc3c.org for updates prior to the meeting. The community is welcome to send agenda items to the PZHED co-chairs at 3C03@anc.dc.gov(Janell Pagats)\, 3C02@anc.dc.gov (Adam Prinzo)\, and 3C06@anc.dc.gov (Jay Bose). \nPlease click here to learn about our committees. \nPZHED Draft Agenda – \n\nPresentation by Office of Planning Regarding Text & Map Amendments to Create the Cleveland Park Neighborhood Mixed Use Zone [NMU-8A/CP] & New Woodley Park Neighborhood Mixed Use Zone [NMU-9A/WP]. Setdown approved at Zoning Commission June 26 meeting. Case 25-09.\nDiscussion of ABCA proposal from Street Lawyer Services for license at 3400 Connecticut Ave NW to permit a cannabis dispensary\nDiscussion of of Benches along the Cleveland Park Promenade (NOTE: Cleveland Park Main Street is sponsoring/leading this project)\nAll Other Business\n\nPlease send comments\, questions\, concerns on these matters to 3c@anc.dc.gov (ALL Commissioners). *NOTE: NEW EMAIL ADDRESS* \nThe following Zoom link is a registration link for ANC3C’s PZHED Committee Meeting. You will be asked to provide your email address in order to receive the Zoom login link\, which will be emailed to you immediately upon registration. The email will include a link to join the meeting as well as a passcode which will be necessary if you choose to join the meeting via phone rather than computer. ANC3C will not retain or disclose your email address. \nhttps://dc-gov.zoom.us/meeting/register/70RoozMlQ4GO0jLkcl8FGA \nAfter registering\, you will receive a confirmation email containing information about joining the meeting.
URL:https://anc3c.org/event/pzhed-july-2025/
LOCATION:Online
END:VEVENT
BEGIN:VEVENT
DTSTART;TZID=America/New_York:20250616T190000
DTEND;TZID=America/New_York:20250616T210000
DTSTAMP:20260422T140632
CREATED:20250122T202211Z
LAST-MODIFIED:20250610T010142Z
UID:10000378-1750100400-1750107600@anc3c.org
SUMMARY:June 2025 Public Meeting
DESCRIPTION:https://anc3c.org/agendas/anc3c-public-meeting-june-16-2025/ ‎
URL:https://anc3c.org/event/june-2025-public-meeting/
LOCATION:Online
END:VEVENT
BEGIN:VEVENT
DTSTART;TZID=America/New_York:20250611T190000
DTEND;TZID=America/New_York:20250611T200000
DTSTAMP:20260422T140632
CREATED:20250605T013307Z
LAST-MODIFIED:20250610T234449Z
UID:10000396-1749668400-1749672000@anc3c.org
SUMMARY:ANC3C Public Safety Committee - June Meeting - CANCELED
DESCRIPTION:CANCELED\nANC3C Public Safety Committee\nJune 11 @ 7:00pm – 8:00pm\nPlease click here to learn about our committees.\nThe June public meeting for the Public Safety Committee (PSX) for ANC3C will be held on June 11\, beginning at 7:00pm online. All are welcome to hear the issues presented below. No decisions are made at this meeting. Please visit anc3c.org for updates prior to the meeting. The community is welcome to send agenda items to the co-chairs at 3C02@anc.dc.gov (Adam J. Prinzo) and 3C08@anc.dc.gov (Rick Nash).\nDraft Agenda –\n\n\nMetropolitan Police Department Second District Update (MPD)\n\n\nDiscussion on Public Safety and Justice portions of Mayor Muriel Bowser’s FY26 “Grow DC” Budget\n\n\nAny Other Business\n\n\nPlease send comments\, questions\, concerns on these matters to 3C@anc.dc.gov (ALL Commissioners).\nhttps://dc-gov.zoom.us/meeting/register/FcMyRevxQX6KCCE_VL0FIg\nAfter registering\, you will receive a confirmation email containing information about joining the meeting.
URL:https://anc3c.org/event/anc3c-psx-committee-june-meeting/
LOCATION:Online
END:VEVENT
BEGIN:VEVENT
DTSTART;TZID=America/New_York:20250603T183000
DTEND;TZID=America/New_York:20250603T193000
DTSTAMP:20260422T140632
CREATED:20250527T204913Z
LAST-MODIFIED:20250527T205011Z
UID:10000394-1748975400-1748979000@anc3c.org
SUMMARY:ANC3C Environmental Justice Committee - June Meeting
DESCRIPTION:ANC3C Environmental Justice Committee\nJune 3 @ 6:30pm – 7:30pm\nPlease click here to learn about our committees.\n\nThe meeting for the Environmental Justice (EJ) Committee for ANC3C will be held on Tuesday\, June 3\, beginning at 6:30pm online.  \nAll are welcome to hear the issues presented below. No decisions are made at this meeting. Please visit anc3c.org for updates prior to the meeting. The community is welcome to send agenda items to the EJ Chair at 3C07@anc.dc.gov.  Please click here to learn about our committees. \nEJ Draft Agenda – \n\nPresentation by Rachel Manning\, Office of Waste Diversion\, DC Department of Public Works\nPresentation by Skye Webster (she/her) RiverSmart Homes Environmental Protection Specialist Department of Energy & Environment\nAll Other Business \n\nPlease send comments\, questions\, concerns on these matters to 3c@anc.dc.gov (ALL Commissioners). *NOTE: NEW EMAIL ADDRESS* \nThe following Zoom link is a registration link for ANC3C’s PZHED Committee Meeting. You will be asked to provide your email address in order to receive the Zoom login link\, which will be emailed to you immediately upon registration. The email will include a link to join the meeting as well as a passcode which will be necessary if you choose to join the meeting via phone rather than computer. ANC3C will not retain or disclose your email address. \nhttps://dc-gov.zoom.us/meeting/register/nZURnfEbR_GfKwFr_x0-KQ  \nAfter registering\, you will receive a confirmation email containing information about joining the meeting.
URL:https://anc3c.org/event/anc3c-environmental-justice-committee-june-meeting/
LOCATION:Online
END:VEVENT
BEGIN:VEVENT
DTSTART;TZID=America/New_York:20250602T183000
DTEND;TZID=America/New_York:20250602T193000
DTSTAMP:20260422T140632
CREATED:20250528T200802Z
LAST-MODIFIED:20250528T200802Z
UID:10000395-1748889000-1748892600@anc3c.org
SUMMARY:ANC3C Planning\, Zoning\, Housing and Economic Development Committee - June Meeting
DESCRIPTION:ANC3C Planning\, Zoning\, Housing and Economic Development Committee\n\nJune 2 @ 6:30 pm – 7:30 pm\nPlease click here to learn about our committees.\nThe meeting for the Planning\, Zoning\, Housing & Economic Development (PZHED) Committee for ANC3C will be held on Monday\, June 2\, beginning at 6:30pm online. \nAll are welcome to hear the issues presented below. No decisions are made at this meeting. Please visit anc3c.org for updates prior to the meeting. The community is welcome to send agenda items to the PZHED co-chairs at 3C03@anc.dc.gov (Janell Pagats)\, 3C02@anc.dc.gov (Adam Prinzo)\, and 3C06@anc.dc.gov (Jay Bose). \nPlease click here to learn about our committees. \nPZHED Draft Agenda – \n\nABCA Application Retailer’s Class “C” Tavern – 3512 Connecticut Avenue\, N.W.  – DAKshin – Aroma Restaurant LLC – NATURE OF OPERATION: A class C Tavern with 104 seats and a Total Occupancy Load of 104. Sidewalk Café with 38 seats. Alcohol Carry-out and Delivery Endorsement. Extended Holiday Hours.\nDiscussion on DC FY 2026 Proposed Budget Documents – https://cfo.dc.gov/node/289642\nAll Other Business\n\nPlease send comments\, questions\, concerns on these matters to 3c@anc.dc.gov (ALL Commissioners). *NOTE: NEW EMAIL ADDRESS* \nThe following Zoom link is a registration link for ANC3C’s PZHED Committee Meeting. You will be asked to provide your email address in order to receive the Zoom login link\, which will be emailed to you immediately upon registration. The email will include a link to join the meeting as well as a passcode which will be necessary if you choose to join the meeting via phone rather than computer. ANC3C will not retain or disclose your email address. \nhttps://dc-gov.zoom.us/meeting/register/cJ2NjFdNTYC5sGRhflMDRg \nAfter registering\, you will receive a confirmation email containing information about joining the meeting.
URL:https://anc3c.org/event/anc3c-planning-zoning-housing-and-economic-development-committee-june-meeting-2/
LOCATION:Online
END:VEVENT
BEGIN:VEVENT
DTSTART;TZID=America/New_York:20250519T190000
DTEND;TZID=America/New_York:20250519T210000
DTSTAMP:20260422T140632
CREATED:20250122T202124Z
LAST-MODIFIED:20250513T020808Z
UID:10000377-1747681200-1747688400@anc3c.org
SUMMARY:May 2025 Public Meeting
DESCRIPTION:ANC3C Public Meeting – May 19\, 2025
URL:https://anc3c.org/event/may-2025-public-meeting/
LOCATION:Online
END:VEVENT
BEGIN:VEVENT
DTSTART;TZID=America/New_York:20250506T183000
DTEND;TZID=America/New_York:20250506T193000
DTSTAMP:20260422T140632
CREATED:20250504T164943Z
LAST-MODIFIED:20250505T013208Z
UID:10000393-1746556200-1746559800@anc3c.org
SUMMARY:ANC3C Environmental Justice Committee - May Meeting
DESCRIPTION:ANC3C Environmental Justice Committee\nMay 6 @ 6:30pm – 7:30pm\nPlease click here to learn about our committees.\n\nThe meeting for the Environmental Justice (EJ) Committee for ANC3C will be held on Tuesday\, May 6\, beginning at 6:30pm online.  \nAll are welcome to hear the issues presented below. No decisions are made at this meeting. Please visit anc3c.org for updates prior to the meeting. The community is welcome to send agenda items to the EJ Chair at 3C07@anc.dc.gov.  Please click here to learn about our committees. \nEJ Draft Agenda – \n\n“What is Environmental Justice? Join a Panel Discussion to Learn About Community-level Action”\n\nFeaturing two experts: Lauren Johnson with Environmental Defense Fund\, and Sarah Dorman with Georgetown University Law Center\n\n\nAll Other Business \n\nPlease send comments\, questions\, concerns on these matters to 3c@anc.dc.gov (ALL Commissioners). *NOTE: NEW EMAIL ADDRESS* \nThe following Zoom link is a registration link for ANC3C’s PZHED Committee Meeting. You will be asked to provide your email address in order to receive the Zoom login link\, which will be emailed to you immediately upon registration. The email will include a link to join the meeting as well as a passcode which will be necessary if you choose to join the meeting via phone rather than computer. ANC3C will not retain or disclose your email address. \nhttps://dc-gov.zoom.us/meeting/register/HIgv57pCR2-9Lqjmmq6p6A  \nAfter registering\, you will receive a confirmation email containing information about joining the meeting.
URL:https://anc3c.org/event/anc3c-ej-committee-may-meeting-2/
END:VEVENT
BEGIN:VEVENT
DTSTART;TZID=America/New_York:20250505T183000
DTEND;TZID=America/New_York:20250505T193000
DTSTAMP:20260422T140632
CREATED:20250429T023738Z
LAST-MODIFIED:20250429T023818Z
UID:10000392-1746469800-1746473400@anc3c.org
SUMMARY:ANC3C Planning\, Zoning\, Housing and Economic Development Committee - May Meeting
DESCRIPTION:ANC3C Planning\, Zoning\, Housing and Economic Development Committee\nMay 5 @ 6:30pm – 7:30pm\nPlease click here to learn about our committees.\nThe meeting for the Planning\, Zoning\, Housing & Economic Development (PZHED) Committee for ANC3C will be held on Monday\, May 5\, beginning at 6:30pm online.\n\nAll are welcome to hear the issues presented below. No decisions are made at this meeting. Please visit anc3c.org for updates prior to the meeting. The community is welcome to send agenda items to the PZHED co-chairs at 3C03@anc.dc.gov (Janell Pagats)\, 3C02@anc.dc.gov (Adam Prinzo)\, and 3C06@anc.dc.gov (Jay Bose).\n\nPlease click here to learn about our committees.\n\nPZHED Draft Agenda –\n\n\nABCA Application Retailer’s Class “C” Tavern –  3504 Connecticut Avenue\, N.W. – Cork Cleveland Park – DKMA\, LLC – NATURE OF OPERATION: The Establishment will be a Tavern with indoor seating for 35\, a Sidewalk Cafe with seating for 8\, and a Total Occupancy Load of 45. Carry-out and Delivery Endorsement.\n\n\nABCA Application Retailer’s Class “C” Tavern – 2621 Connecticut Avenue\, N.W.  – Tavern Eighteen – Tavern 18 DC\, LLC – NATURE OF OPERATION: New Class C Tavern with a seating capacity of 48 and a Total Occupancy Load of 48. Sidewalk Café with 30 Seats. The Licensee is also requesting the Alcohol Carry-out and Delivery Endorsement\, Holiday Extension of Hours Endorsement\, and an Entertainment Endorsement to provide Live Entertainment and Dancing inside of the premises.\n\n\nHPRB Application (not yet filed) – 3409 Connecticut Avenue\, N.W. Proposal for a 1-story\, mixed use addition to an existing retail property. Initial presentation and discussion.\n\n\nChevy Chase Civic Site Redevelopment Discussion. ANC3C is an affected ANC. ANC3C does not have a Community Center\, so this is\, in effect\, our community center. Nor does ANC3C have DC-owned land suitable for new affordable housing. Therefore\, ANC3C has a vested interest in the outcome of the land disposition and development plans in Chevy Chase.\n\n\nChevy Chase Civic Site – RFP Presentations viewable here – https://dmped.dc.gov/publication/Chevy-chase-Civic-Site-rfp-presentations\n\n\nAll project information here – https://dmped.dc.gov/node/541662\n\n\nSummary of presentations – https://dc.urbanturf.com/articles/blog/the_8_proposals_pitched_for_a_hotly_debated_site_in_chevy_chase/23344 \n\n\n\n\nAll Other Business\n\n\n\nPlease send comments\, questions\, concerns on these matters to 3c@anc.dc.gov (ALL Commissioners). *NOTE: NEW EMAIL ADDRESS*\n\nThe following Zoom link is a registration link for ANC3C’s PZHED Committee Meeting. You will be asked to provide your email address in order to receive the Zoom login link\, which will be emailed to you immediately upon registration. The email will include a link to join the meeting as well as a passcode which will be necessary if you choose to join the meeting via phone rather than computer. ANC3C will not retain or disclose your email address.\n\nhttps://dc-gov.zoom.us/meeting/register/LbOMXIlZRz-dztDrjERBLw\n\nAfter registering\, you will receive a confirmation email containing information about joining the meeting.
URL:https://anc3c.org/event/anc3c-planning-zoning-housing-and-economic-development-committee-may-meeting/
END:VEVENT
END:VCALENDAR