BEGIN:VCALENDAR
VERSION:2.0
PRODID:-//ANC 3C - ECPv6.15.5//NONSGML v1.0//EN
CALSCALE:GREGORIAN
METHOD:PUBLISH
X-WR-CALNAME:ANC 3C
X-ORIGINAL-URL:https://anc3c.org
X-WR-CALDESC:Events for ANC 3C
REFRESH-INTERVAL;VALUE=DURATION:PT1H
X-Robots-Tag:noindex
X-PUBLISHED-TTL:PT1H
BEGIN:VTIMEZONE
TZID:America/New_York
BEGIN:DAYLIGHT
TZOFFSETFROM:-0500
TZOFFSETTO:-0400
TZNAME:EDT
DTSTART:20260308T070000
END:DAYLIGHT
BEGIN:STANDARD
TZOFFSETFROM:-0400
TZOFFSETTO:-0500
TZNAME:EST
DTSTART:20261101T060000
END:STANDARD
END:VTIMEZONE
BEGIN:VEVENT
DTSTART;TZID=America/New_York:20260420T183000
DTEND;TZID=America/New_York:20260420T210000
DTSTAMP:20260422T040825
CREATED:20260121T165717Z
LAST-MODIFIED:20260420T012331Z
UID:10000420-1776709800-1776718800@anc3c.org
SUMMARY:April 2026 Public Meeting - Hybrid @ 6:30pm
DESCRIPTION:ANC3C April 2026 NOTICE & DRAFT Agenda – REMINDER & UPDATES \nDate/Time: April 20\, 2026 6:30 pm *NOTE: DIFFERENT START TIME*  \nLocation: Cleveland Park Library\, Lower Level/Basement Meeting Room (3310 Connecticut Ave NW) & Zoom Meeting\, Online\, Washington\, DC 20008 **HYBRID (In-Person/Virtual)  MEETING** \nRegistration Link: https://dc-gov.zoom.us/meeting/register/wz80edDKQyS6IVW7OQqPEw \nThe ANC meets every month (with the exception of August). An agenda and draft materials for the upcoming meeting is available at www.anc3c.org.  \nSIGN UP TO RECEIVE NOTICE & UPDATES FROM 3C – https://forms.gle/h73JCpq5Vybs5agZ9 \nAs a neighbor\, there are several opportunities to participate in an ANC meeting: You can make an Announcement\, or speak during the Community Forum\, or you can ask to be recognized by the Chair to speak during the Commission Business. \nIf you have any questions or comments about the upcoming meeting\, draft resolutions or letters\, or have interest in formally joining a standing committee\, email the Commissioners at 3c@anc.dc.gov (all ANC3C commissioners). \n\n Establishment of Quorum\n Verification of Notice \n\nIII. Approval of Agenda & Consent Calendar  \n\n Consent Calendar\n\n\nApproval of March 2025 Meeting Minutes\nSupport for BZA Application for 3215 Rowland Place\, NW – To construct a new\, detached\, one-story accessory garage in the R-2 zone. **UPDATE DRAFT – 4/19/2026**\nSupport for HPRB Application for 3134 34 Street\, NW – Renovation of an existing three-story plus basement house. Replacement of existing addition on East face of home with new addition. Expansion of existing dormer on the third-floor South facade. **UPDATE DRAFT – 4/19/2026**\n\n\n Presentations\n\n\nNew Village Square in Cleveland Park – Cleveland & Woodley Park Village has plans to open the Village Square: a permanent\, drop-in gathering space in the heart of Cleveland Park designed to serve our neighborhood’s older residents. Presentation by Frank L. Finamore\, Jr.\, Executive Director\, Cleveland & Woodley Park Village \nLead-Free DC (LFDC) presentation to discuss the project in more detail and address any questions or concerns. We want to make sure that constituents are aware of the program and informed about upcoming LFDC construction that affects numerous homes and businesses in ANC 3C. Please visit the construction dashboard on the LFDC page which shows the location and status for all premises in the District\, https://www.dcwater.com/lead-free-dc-construction-dashboard. Project information will also be posted to our website at https://www.dcwater.com/lead and updated regularly.Presentation by Sean Moore\, Communications Manager & Dexter Lynnell Humphrey\, Stakeholder Engagement and Outreach Specialist\, Lead Free DC (Contractor)\, DC Water | Engineering & Technical Services\n\n\n Commission Business – If you have any questions or comments about the following draft resolutions or letters email the Commissioners at 3c@anc.dc.gov\n\n\nDiscussion and letter **UPDATE DRAFT – 4/19/2026** on NOI #26-84-CPD – Connecticut Avenue Multimodal Safety Improvement Project – Intersection Improvements – NOI Letter and NOI Presentation. \n\n\nTreasurer’s Report \n\nVII. Community Forum  \nMembers of the public are invited to ask questions and raise concerns about issues that are not otherwise on the agenda. Please limit time to 1-2 minutes. \nVIII. Announcements  \n\nSingle Member District Reports (5 mins)\nCommittee Reports (5 mins)\n\nSafe\, Sustainable\, and Equitable Transportation\nTransparency & Public Process\nCommunity Engagement & Grants\nPlanning\, Zoning\, Housing\, and Economic Development\nResidential Historic Preservation\nEnvironmental Justice\nPublic Safety  \n\n\nMayor\, Council\, Agency\, Community Organizations (5 mins)\n\n  \n\n Adjournment\n\n 
URL:https://anc3c.org/event/april-2026-public-meeting/
LOCATION:Online
END:VEVENT
END:VCALENDAR